BEGIN:VCALENDAR
VERSION:2.0
PRODID:-//Florida Keys Chapter - ECPv5.1.2.1//NONSGML v1.0//EN
CALSCALE:GREGORIAN
METHOD:PUBLISH
X-WR-CALNAME:Florida Keys Chapter
X-ORIGINAL-URL:https://floridakeys.surfrider.org
X-WR-CALDESC:Events for Florida Keys Chapter
BEGIN:VTIMEZONE
TZID:America/New_York
BEGIN:DAYLIGHT
TZOFFSETFROM:-0500
TZOFFSETTO:-0400
TZNAME:EDT
DTSTART:20190310T070000
END:DAYLIGHT
BEGIN:STANDARD
TZOFFSETFROM:-0400
TZOFFSETTO:-0500
TZNAME:EST
DTSTART:20191103T060000
END:STANDARD
END:VTIMEZONE
BEGIN:VEVENT
DTSTART;TZID=America/New_York:20190608T090000
DTEND;TZID=America/New_York:20190608T110000
DTSTAMP:20210426T125126
CREATED:20190530T134044Z
LAST-MODIFIED:20190530T134533Z
UID:489-1559984400-1559991600@floridakeys.surfrider.org
SUMMARY:World Ocean Day Beach Cleanup - Lower Keys
DESCRIPTION:\n\n\nJoin us on World Oceans Day (June 8th) as we partner with Love Beauty and Planet and Love Home and Planet for a Beach Cleanup from 9-11am. What better way to appreciate the ocean than to remove waste from our beaches that may find its way to our Ocean? \nCome share your #smallactsoflove for the ocean with us! \nSurfrider Foundation has partnered with Love Beauty and Planet to organize 27 beach cleanups across the country on World Oceans Day. There are 2 options in the Florida Keys! The Lower Keys cleanup group will meet at Boca Chica Beach (at the end of Boca Chica Road). The Upper Keys cleanup group will meet at Harry Harris Park in Tavernier. (We will post the link to that event in the comments.) \nPlease be sure to bring your own water bottles – this is a plastic-free event! (We will have a water cooler for refills.) If you have a bucket to bring for collection\, please do! Otherwise\, we’ll have something for you. \nThe first 10 volunteers on-site will receive a special gift from Love Beauty and Planet! \n\n\n\n\n\n	Related\n
URL:https://floridakeys.surfrider.org/event/world-ocean-day-beach-cleanup-lower-keys/
LOCATION:Boca Chica Beach\, End of Boca Chica Road\, Key West\, FL\, 33040\, United States
CATEGORIES:Beach Cleanups,Lower Keys
ATTACH;FMTTYPE=image/jpeg:https://floridakeys.surfrider.org/wp-content/uploads/2019/05/61314108_366035484265125_1264889682810896384_o.jpg
END:VEVENT
END:VCALENDAR