BEGIN:VCALENDAR
VERSION:2.0
PRODID:-//Florida Keys Chapter - ECPv5.1.2.1//NONSGML v1.0//EN
CALSCALE:GREGORIAN
METHOD:PUBLISH
X-WR-CALNAME:Florida Keys Chapter
X-ORIGINAL-URL:https://floridakeys.surfrider.org
X-WR-CALDESC:Events for Florida Keys Chapter
BEGIN:VTIMEZONE
TZID:America/New_York
BEGIN:DAYLIGHT
TZOFFSETFROM:-0500
TZOFFSETTO:-0400
TZNAME:EDT
DTSTART:20190310T070000
END:DAYLIGHT
BEGIN:STANDARD
TZOFFSETFROM:-0400
TZOFFSETTO:-0500
TZNAME:EST
DTSTART:20191103T060000
END:STANDARD
END:VTIMEZONE
BEGIN:VEVENT
DTSTART;TZID=America/New_York:20190821T173000
DTEND;TZID=America/New_York:20190821T193000
DTSTAMP:20210426T125154
CREATED:20190817T182747Z
LAST-MODIFIED:20190817T182747Z
UID:693-1566408600-1566415800@floridakeys.surfrider.org
SUMMARY:Happy Hour With The Artist
DESCRIPTION:\n\n\nJoin us at the amazing 7 Artists Gallery to check out the latest local art\, including the work of Andreas Franke and his current The Sinking World exhibit\, Plastic Ocean. The images are currently mounted to the Vandenberg and set to be removed on Sunday\, August 18th. Hosted by the lovely Jennifer Badry\, 7 Artists owner and curator\, Andreas will be attending and donations from the bar will go to your local Surfrider FlorIda Keys Chapter. Stay tuned for more details!\n*Please note: this is a Plastic Free event so bring your own drink cups (and cash for donations for filling them!)\n\n\n\n\n\n	Related\n
URL:https://floridakeys.surfrider.org/event/happy-hour-with-the-artist/
LOCATION:7 Artists Key West\, 213 Simonton Street\, Key West\, FL\, 33040\, United States
CATEGORIES:Lower Keys
ATTACH;FMTTYPE=image/jpeg:https://floridakeys.surfrider.org/wp-content/uploads/2019/08/68279848_360774721241943_2629772492104794112_o.jpg
END:VEVENT
END:VCALENDAR