BEGIN:VCALENDAR
VERSION:2.0
PRODID:-//Florida Keys Chapter - ECPv5.1.2.1//NONSGML v1.0//EN
CALSCALE:GREGORIAN
METHOD:PUBLISH
X-WR-CALNAME:Florida Keys Chapter
X-ORIGINAL-URL:https://floridakeys.surfrider.org
X-WR-CALDESC:Events for Florida Keys Chapter
BEGIN:VTIMEZONE
TZID:America/New_York
BEGIN:DAYLIGHT
TZOFFSETFROM:-0500
TZOFFSETTO:-0400
TZNAME:EDT
DTSTART:20190310T070000
END:DAYLIGHT
BEGIN:STANDARD
TZOFFSETFROM:-0400
TZOFFSETTO:-0500
TZNAME:EST
DTSTART:20191103T060000
END:STANDARD
END:VTIMEZONE
BEGIN:VEVENT
DTSTART;TZID=America/New_York:20190616T140000
DTEND;TZID=America/New_York:20190616T200000
DTSTAMP:20210426T125133
CREATED:20190530T134354Z
LAST-MODIFIED:20190530T134354Z
UID:492-1560693600-1560715200@floridakeys.surfrider.org
SUMMARY:1st Annual Surfrider Rib Cook Off
DESCRIPTION:\n\n\nCome try the best ribs in town and vote for your favorites!\nTaste Racks of Ribs made by locals & local establishments – all claiming to be the best! You be the judge! \nProceeds from Ribs\, Sides and Selected Beverages go to our local chapter of Surfrider Foundation. \nThis Father’s Day we’re giving Daddy his rib bone back!!! \n\n\n\n\n\n	Related\n
URL:https://floridakeys.surfrider.org/event/1st-annual-surfrider-rib-cook-off/
LOCATION:Shots & Giggles\, 201 Ann Street\, Key West\, FL\, 33040\, United States
CATEGORIES:Lower Keys
ATTACH;FMTTYPE=image/jpeg:https://floridakeys.surfrider.org/wp-content/uploads/2018/08/Florida-Keys.jpg
END:VEVENT
END:VCALENDAR